BEGIN:VCALENDAR
VERSION:2.0
PRODID:-//Gillingham CPA - ECPv6.15.1.1//NONSGML v1.0//EN
CALSCALE:GREGORIAN
METHOD:PUBLISH
X-ORIGINAL-URL:https://www.gillinghamcpa.com
X-WR-CALDESC:Events for Gillingham CPA
REFRESH-INTERVAL;VALUE=DURATION:PT1H
X-Robots-Tag:noindex
X-PUBLISHED-TTL:PT1H
BEGIN:VTIMEZONE
TZID:America/Los_Angeles
BEGIN:DAYLIGHT
TZOFFSETFROM:-0800
TZOFFSETTO:-0700
TZNAME:PDT
DTSTART:20240310T100000
END:DAYLIGHT
BEGIN:STANDARD
TZOFFSETFROM:-0700
TZOFFSETTO:-0800
TZNAME:PST
DTSTART:20241103T090000
END:STANDARD
END:VTIMEZONE
BEGIN:VEVENT
DTSTART;TZID=America/Los_Angeles:20241215T080000
DTEND;TZID=America/Los_Angeles:20241215T090000
DTSTAMP:20260420T130224
CREATED:20230601T151214Z
LAST-MODIFIED:20230819T150359Z
UID:10000312-1734249600-1734253200@www.gillinghamcpa.com
SUMMARY:CA S-Corp / C-Corp Estimated tax installment payment
DESCRIPTION:Payment Deadline for CA S-Corp / Multi Member LLC – CA S-Corp / C-Corp Estimated tax installment payment
URL:https://www.gillinghamcpa.com/event/ca-s-corp-c-corp-estimated-tax-installment-payment/2024-12-15/
CATEGORIES:CA C-Corp / S-Corp / Multi Member LLC
ATTACH;FMTTYPE=image/jpeg:https://www.gillinghamcpa.com/wp-content/uploads/2018/10/home_1-e1582800668795.jpg
END:VEVENT
END:VCALENDAR