BEGIN:VCALENDAR
VERSION:2.0
PRODID:-//Gillingham CPA - ECPv6.15.1.1//NONSGML v1.0//EN
CALSCALE:GREGORIAN
METHOD:PUBLISH
X-WR-CALNAME:Gillingham CPA
X-ORIGINAL-URL:https://www.gillinghamcpa.com
X-WR-CALDESC:Events for Gillingham CPA
REFRESH-INTERVAL;VALUE=DURATION:PT1H
X-Robots-Tag:noindex
X-PUBLISHED-TTL:PT1H
BEGIN:VTIMEZONE
TZID:America/Los_Angeles
BEGIN:DAYLIGHT
TZOFFSETFROM:-0800
TZOFFSETTO:-0700
TZNAME:PDT
DTSTART:20260308T100000
END:DAYLIGHT
BEGIN:STANDARD
TZOFFSETFROM:-0700
TZOFFSETTO:-0800
TZNAME:PST
DTSTART:20261101T090000
END:STANDARD
END:VTIMEZONE
BEGIN:VEVENT
DTSTART;TZID=America/Los_Angeles:20260115T080000
DTEND;TZID=America/Los_Angeles:20260115T090000
DTSTAMP:20260421T120340
CREATED:20230502T140015Z
LAST-MODIFIED:20250120T121807Z
UID:10000201-1768464000-1768467600@www.gillinghamcpa.com
SUMMARY:Q4 Fed / CA Income tax
DESCRIPTION:Payment Deadline for Individuals – Q4 Fed / CA Income tax
URL:https://www.gillinghamcpa.com/event/q1-fed-ca-income-tax/2026-01-15/
CATEGORIES:Individuals
ATTACH;FMTTYPE=image/jpeg:https://www.gillinghamcpa.com/wp-content/uploads/2018/10/home_1-e1582800668795.jpg
END:VEVENT
BEGIN:VEVENT
DTSTART;TZID=America/Los_Angeles:20260131T080000
DTEND;TZID=America/Los_Angeles:20260131T090000
DTSTAMP:20260421T120340
CREATED:20250324T151545Z
LAST-MODIFIED:20250324T151653Z
UID:10000336-1769846400-1769850000@www.gillinghamcpa.com
SUMMARY:1099 issuance if required
DESCRIPTION:Tax Form Due for Individuals – 1099 issuance if required
URL:https://www.gillinghamcpa.com/event/1099-issuance-if-required/2026-01-31/
CATEGORIES:Individuals
ATTACH;FMTTYPE=image/jpeg:https://www.gillinghamcpa.com/wp-content/uploads/2018/10/home_1-e1582800668795.jpg
END:VEVENT
END:VCALENDAR